BEGIN:VCALENDAR
VERSION:2.0
PRODID:-//ChamberMaster//Event Calendar 2.0//EN
METHOD:PUBLISH
X-PUBLISHED-TTL:P3D
REFRESH-INTERVAL:P3D
CALSCALE:GREGORIAN
BEGIN:VEVENT
DTSTART:20250926T000000Z
DTEND:20250926T020000Z
X-MICROSOFT-CDO-ALLDAYEVENT:FALSE
SUMMARY:Welcome Home
DESCRIPTION:Join us on September 25th\, 2025\, from 5 7 PM at the historic Roosevelt for Welcome Home   a unique HomeShare fundraiser presented by Post Falls ER and Hospital and Greenstone Homes and Neighborhoods. This elegant lawn party and croquet tournament marks the grand re-opening of the former Roosevelt Inn as a new shared housing space and new office space for HomeShare.\n\nEnjoy an evening of wine and finger foods\, live entertainment\, raffle baskets\, historic tours\, and spirited croquet competition   all while learning about HomeShare's mission to create affordable\, sustainable housing through facilitating homesharing arrangements. Be immersed\n\nThe Croquet teams must be bought in advance\, however 1-2 teams will be able to be assembled day of (single or doubles to make up the teams of 4). The croquet tournament will conclude with the grand announcement of 1st\, 2nd\, and 3rd place as well as the announcement of the raffle basket win. These raffle baskets include monogrammed peices from the former Roosevelt Inn\, Evans Brothers\, Trader Joe's\, Spa Date Night\, tailored live sculpting classes\, and many more\n\nThroughout the evening there will be historic tours of the open spaces of the Roosevelt by rehearsed tour guides in collaboration with our volunteers and the Museum of North Idaho
X-ALT-DESC;FMTTYPE=text/html:<p>Join us on September 25th\, 2025\, from 5&ndash\;7 PM at the historic Roosevelt for Welcome Home &mdash\; a unique HomeShare fundraiser presented by Post Falls ER and Hospital and Greenstone Homes and Neighborhoods. This elegant lawn party and croquet tournament marks the grand re-opening of the former Roosevelt Inn as a new shared housing space and new office space for HomeShare.</p>\n\n<p>Enjoy an evening of wine and finger foods\, live entertainment\, raffle baskets\, historic tours\, and spirited croquet competition &mdash\; all while learning about HomeShare&rsquo\;s mission to create affordable\, sustainable housing through facilitating homesharing arrangements. Be immersed</p>\n\n<p>The Croquet teams must be bought in advance\, however 1-2 teams will be able to be assembled day of (single or doubles to make up the teams of 4). The croquet tournament will conclude with the grand announcement of 1st\, 2nd\, and 3rd place as well as the announcement of the raffle basket win. These raffle baskets include monogrammed peices from the former Roosevelt Inn\, Evans Brothers\, Trader Joe&rsquo\;s\, Spa Date Night\, tailored live sculpting classes\, and many more</p>\n\n<p>Throughout the evening there will be historic tours of the open spaces of the Roosevelt by rehearsed tour guides in collaboration with our volunteers and the Museum of North Idaho</p>\n
LOCATION:105 E Wallace Ave\, Coeur d'Alene\, ID 83814
UID:e.843.33204
SEQUENCE:3
DTSTAMP:20260423T201338Z
URL:http://cvbcda.chambermaster.com/events/details/welcome-home-33204
END:VEVENT

END:VCALENDAR
