BEGIN:VCALENDAR
VERSION:2.0
PRODID:-//ChamberMaster//Event Calendar 2.0//EN
METHOD:PUBLISH
X-PUBLISHED-TTL:P3D
REFRESH-INTERVAL:P3D
CALSCALE:GREGORIAN
BEGIN:VEVENT
DTSTART:20250927T190000Z
DTEND:20250927T230000Z
X-MICROSOFT-CDO-ALLDAYEVENT:FALSE
SUMMARY:Hawktoberfest
DESCRIPTION:September is "Hawktober\," or school spirit month\, at Holy Family Catholic School and we want to share our school spirit with our local community at our Hawktoberfest Fall Festival!  Join us on September 27th from noon to 4 pm on the HFCS campus for carnival games\, bounce houses\, food\, fall maze\, live music\, beer and wine garden\, face painting\, cotton candy\, vendors\, and much more!
X-ALT-DESC;FMTTYPE=text/html:<span style="font-family:ubuntu\,-apple-system\,blinkmacsystemfont\,segoe ui\,roboto\,helvetica neue\,arial\,sans-serif\,apple color emoji\,segoe ui emoji\,segoe ui symbol\; font-size:16px">September&nbsp\;is &quot\;Hawktober\,&quot\; or school spirit month\, at Holy Family Catholic School and we want to share our school spirit with our local community at our Hawktoberfest Fall Festival! &nbsp\;Join us on September 27th from noon to 4 pm on the HFCS campus for carnival games\, bounce houses\, food\, fall maze\, live music\, beer and wine garden\, face painting\, cotton candy\, vendors\, and much more!</span>
LOCATION:3005 W Kathleen Ave\, coeur d'Alene Idaho 83815
UID:e.843.33207
SEQUENCE:3
DTSTAMP:20260423T155945Z
URL:http://cvbcda.chambermaster.com/events/details/hawktoberfest-33207
END:VEVENT

END:VCALENDAR
