BEGIN:VCALENDAR
VERSION:2.0
PRODID:-//ChamberMaster//Event Calendar 2.0//EN
METHOD:PUBLISH
X-PUBLISHED-TTL:P3D
REFRESH-INTERVAL:P3D
CALSCALE:GREGORIAN
BEGIN:VEVENT
DTSTART;VALUE=DATE:20241129
DTEND;VALUE=DATE:20241223
TRANSP:TRANSPARENT
X-MICROSOFT-CDO-ALLDAYEVENT:TRUE
SUMMARY:Elf on the Shelf
DESCRIPTION:Did you hear the great news? Santa is sending a team of "Scout Elves" to Downtown Coeur d'Alene! Presented by STCU\, the Coeur d'Alene Scout Elves will land in town to start a fun holiday scavenger hunt on Friday\, November 29 and Santa has asked them to scout every Friday -Sunday through December 22. Just like all elves\, these ones are sneaky and hideout in cups of hot cocoa\, cozy boutique sweaters\, and other silly places!  Keep your eyes peeled for one of the dozens of Coeur d'Alene Scout Elves hiding throughout the downtown corridor and you could win prizes from Santa himself!
X-ALT-DESC;FMTTYPE=text/html:<span style="color:rgb(20\, 24\, 39)\; font-family:helvetica neue\,helvetica\,-apple-system\,blinkmacsystemfont\,roboto\,arial\,sans-serif\; font-size:16px">Did you hear the great news? Santa is sending a team of &ldquo\;Scout Elves&rdquo\; to Downtown Coeur d&rsquo\;Alene! Presented by STCU\, the Coeur d&rsquo\;Alene Scout Elves will land in town to start a fun holiday scavenger hunt on Friday\, November 29 and Santa has asked them to scout every Friday -Sunday through December 22. Just like all elves\, these ones are sneaky and hideout in cups of hot cocoa\, cozy boutique sweaters\, and other silly places!&nbsp\; Keep your eyes peeled for one of the dozens of Coeur d&rsquo\;Alene Scout Elves hiding throughout the downtown corridor and you could win prizes from Santa himself!</span>
LOCATION:Downtown Coeur d'Alene | Find elves in participating locations. Map to be announced.
UID:e.843.31565
SEQUENCE:3
DTSTAMP:20260425T233845Z
URL:http://cvbcda.chambermaster.com/events/details/elf-on-the-shelf-31565
END:VEVENT

END:VCALENDAR
