BEGIN:VCALENDAR
VERSION:2.0
PRODID:-//ChamberMaster//Event Calendar 2.0//EN
METHOD:PUBLISH
X-PUBLISHED-TTL:P3D
REFRESH-INTERVAL:P3D
CALSCALE:GREGORIAN
BEGIN:VEVENT
DTSTART:20110507T190000Z
DTEND:20110508T020000Z
X-MICROSOFT-CDO-ALLDAYEVENT:FALSE
SUMMARY:Authentic Italian Spaghetti Dinner
DESCRIPTION:Authentic Italian Spaghetti Dinner\n\nCapellini\, Rich Red Meat Sauce\, Meatballs/Sausage\, Green Salad w/ Italian Dressing and Italian Bread.
X-ALT-DESC;FMTTYPE=text/html:Authentic Italian Spaghetti Dinner\n<br>Capellini\, Rich Red Meat Sauce\, Meatballs/Sausage\, Green Salad w/ Italian Dressing and Italian Bread.\n<br>
LOCATION:Elks Lodge 1170 W. Prairie Ave\, Coeur d'Alene
UID:e.843.2165
SEQUENCE:3
DTSTAMP:20260422T024207Z
URL:http://cvbcda.chambermaster.com/events/details/authentic-italian-spaghetti-dinner-05-07-2011-2165
END:VEVENT

END:VCALENDAR
